BEGIN:VCALENDAR
VERSION:2.0
PRODID:-//Your Lincoln Park Life - ECPv6.10.0//NONSGML v1.0//EN
CALSCALE:GREGORIAN
METHOD:PUBLISH
X-WR-CALNAME:Your Lincoln Park Life
X-ORIGINAL-URL:https://yourlincolnparklife.com
X-WR-CALDESC:Events for Your Lincoln Park Life
REFRESH-INTERVAL;VALUE=DURATION:PT1H
X-Robots-Tag:noindex
X-PUBLISHED-TTL:PT1H
BEGIN:VTIMEZONE
TZID:UTC
BEGIN:STANDARD
TZOFFSETFROM:+0000
TZOFFSETTO:+0000
TZNAME:UTC
DTSTART:20250101T000000
END:STANDARD
TZID:America/Chicago
BEGIN:DAYLIGHT
TZOFFSETFROM:-0600
TZOFFSETTO:-0500
TZNAME:CDT
DTSTART:20250309T080000
END:DAYLIGHT
BEGIN:STANDARD
TZOFFSETFROM:-0500
TZOFFSETTO:-0600
TZNAME:CST
DTSTART:20251102T070000
END:STANDARD
END:VTIMEZONE
BEGIN:VEVENT
DTSTART;TZID=UTC:20250315T140000
DTEND;TZID=UTC:20250315T200000
DTSTAMP:20260421T124102
CREATED:20250205T140218Z
LAST-MODIFIED:20250206T161009Z
UID:2041-1742047200-1742068800@yourlincolnparklife.com
SUMMARY:St. Patrick's Day Hangover Brunch
DESCRIPTION:Had a little too much fun tonight? You’re in luck with Summer House’s St. Patrick’s Day Hangover Brunch on Saturday\, March 15. From 9:00 AM to 3:00 PM\, any guests wearing green will receive a $25 gift to use during a future visit at Summer House!\nKeep your St. Paddy’s Day fun going with a brunch filled with savory eats like the Breakfast Burrito and Prosciutto & Egg Pizza. Eat like the Irish with the Short Ribbed Hash served Summer House-style with sweet potatoes\, sunny side eggs\, and caramelized onions. Click here to view the Summer House brunch menu.\nDon’t miss out on another day of shenanigans and kick off your Saturday with classic brunch cocktails\, including the Mimosa\, Bloody Mary\, and Espresso Martini.\nClick here to make your reservation for St. Patrick’s Day Hangover Brunch today. \nShare
URL:https://yourlincolnparklife.com/event/st-patricks-day-hangover-brunch/
LOCATION:Summer House Chicago\, 1954 N Halsted Street\, Chicago\, IL\, 60614\, United States
CATEGORIES:Food,Restaurants,St Patricks,St. Patrick's Day
ORGANIZER;CN="Summer House Santa Monica":MAILTO:noreply@facebookmail.com
END:VEVENT
BEGIN:VEVENT
DTSTART;TZID=America/Chicago:20250302T170000
DTEND;TZID=America/Chicago:20250302T210000
DTSTAMP:20260421T124102
CREATED:20250204T173657Z
LAST-MODIFIED:20250206T175429Z
UID:1831-1740934800-1740949200@yourlincolnparklife.com
SUMMARY:Wearing of the Green Dinner Dance Sunday\, March 2
DESCRIPTION:18th Annual Wearing of the Green Dinner Dance Sunday\, March 2\nKick off St. Patrick’s Day season with the 18th Annual Wearing of the Green Dinner Dance on March 2 from 5-9PM.\n\nEnjoy a corned beef and cabbage (or vegetarian) dinner provided by Harrington’s\, gratuity included. Entertainment by the Gerry Haughey Ensemble\, Trinity Academy of Irish Dance\, and the Shannon Rovers Pipe Band\, dancing\, prizes\, a sweet table\, and a cash bar in the newly remodeled Erin Room.\n\nTickets are $65 each. Tables of 10 or 12 are available.\n\nReservations are required by February 28.\n\nTickets available here\, or call the Center office at 773-282-7035\, ext. 10 to get your tickets today.\n\n\nShare
URL:https://yourlincolnparklife.com/event/wearing-of-the-green-dinner-dance-sunday-march-2-2/
LOCATION:Irish American Heritage Center\, 4626 N Knox Ave\, Chicago\, IL\, 60630\, United States
CATEGORIES:Cultural Programs,Events,St. Patrick's Day
ATTACH;FMTTYPE=image/png:https://yourlincolnparklife.com/wp-content/uploads/2025/02/Wearing-of-the-Green-2025-i87NQ7.tmp_.png
END:VEVENT
BEGIN:VEVENT
DTSTART;TZID=America/Chicago:20250301T123000
DTEND;TZID=America/Chicago:20250301T190000
DTSTAMP:20260421T124102
CREATED:20250204T173654Z
LAST-MODIFIED:20250206T175835Z
UID:1827-1740832200-1740855600@yourlincolnparklife.com
SUMMARY:Irish Singing Workshop and Concert
DESCRIPTION:Learn the BEST Irish Songs from BEST Irish Singing Teachers\nIt’s an Irish singing-palooza with some of the best teachers: \n\nEimear Arkins – All Ireland Ladies Singing Champion\nDiarmuid Ó Meachair – Champion Sean Nos\, singer and member of legendary group De Dannan\nNiall Wall – All Ireland Men’s Singing Champion and Champion Newly Composed Song\n\nLearn English language songs\, Irish language Sean Nos style songs\, and a Lilt; what is an authentic traditional Irish song/what is Sean Nos singing; how to ornament song; how to create a Fleadh-worthy newly composed song; and a critique of your singing (optional). \nImmediately following the workshop\, our esteemed faculty singers will present a two-hour concert with local favorites and event sponsor The Chicago Irish Singers. \nEarly Bird Class and concert admission is $75 until February 14 and $90 after. Concert only is $25. \nQuestions? Email christine@chicagoirishsingers.com. \nShare
URL:https://yourlincolnparklife.com/event/irish-singing-workshop-and-concert/
LOCATION:Irish American Heritage Center\, 4626 N Knox Ave\, Chicago\, IL\, 60630\, United States
CATEGORIES:Classes,Cultural Programs,Music,St. Patrick's Day
ATTACH;FMTTYPE=image/jpeg:https://yourlincolnparklife.com/wp-content/uploads/2025/02/Chicago-Irish-Singers-Logo-FIN_Full-Color-JPG-2023-Z4FWdS.tmp_.jpg
END:VEVENT
END:VCALENDAR