BEGIN:VCALENDAR
VERSION:2.0
PRODID:-//Your Lincoln Park Life - ECPv6.10.0//NONSGML v1.0//EN
CALSCALE:GREGORIAN
METHOD:PUBLISH
X-ORIGINAL-URL:https://yourlincolnparklife.com
X-WR-CALDESC:Events for Your Lincoln Park Life
REFRESH-INTERVAL;VALUE=DURATION:PT1H
X-Robots-Tag:noindex
X-PUBLISHED-TTL:PT1H
BEGIN:VTIMEZONE
TZID:America/Chicago
BEGIN:DAYLIGHT
TZOFFSETFROM:-0600
TZOFFSETTO:-0500
TZNAME:CDT
DTSTART:20250309T080000
END:DAYLIGHT
BEGIN:STANDARD
TZOFFSETFROM:-0500
TZOFFSETTO:-0600
TZNAME:CST
DTSTART:20251102T070000
END:STANDARD
END:VTIMEZONE
BEGIN:VEVENT
DTSTART;TZID=America/Chicago:20251018T093000
DTEND;TZID=America/Chicago:20251018T150000
DTSTAMP:20260421T063505
CREATED:20251016T163706Z
LAST-MODIFIED:20251018T171106Z
UID:2770-1760779800-1760799600@yourlincolnparklife.com
SUMMARY:Decorate a Pumpkin
DESCRIPTION:This Saturday\, October 18th\, decorate a pumpkin at the Lincoln Park Cultural Center that will be on display in the Conservatory for the night of the Bootanical Bash. Tools\, supplies\, and pumpkins will be provided.\nThen come to Bootanical Bash on the evening of October 23! Click here for tickets!\nClick the link below to sign your family up for your preferred time slot. This event is free. All children must be accompanied by an adult. \n 9:30-11am\n 11:30am-1pm\n 1:30-3pm\nDue to space limitations\, please only come during the time you reserved. \nShare
URL:https://yourlincolnparklife.com/event/decorate-a-pumpkin/
LOCATION:Lincoln Park Cultural Center\, 2045 N Lincoln Park W\, Chicago\, IL\, United States
CATEGORIES:Lincoln Park,Lincoln Park Cultural Center,Special Event
ATTACH;FMTTYPE=image/png:https://yourlincolnparklife.com/wp-content/uploads/2025/10/Pumpkin-Decorating-Event-24C8Ek.png
END:VEVENT
END:VCALENDAR