BEGIN:VCALENDAR
VERSION:2.0
PRODID:-//Your Lincoln Park Life - ECPv6.10.0//NONSGML v1.0//EN
CALSCALE:GREGORIAN
METHOD:PUBLISH
X-WR-CALNAME:Your Lincoln Park Life
X-ORIGINAL-URL:https://yourlincolnparklife.com
X-WR-CALDESC:Events for Your Lincoln Park Life
REFRESH-INTERVAL;VALUE=DURATION:PT1H
X-Robots-Tag:noindex
X-PUBLISHED-TTL:PT1H
BEGIN:VTIMEZONE
TZID:America/Chicago
BEGIN:DAYLIGHT
TZOFFSETFROM:-0600
TZOFFSETTO:-0500
TZNAME:CDT
DTSTART:20250309T080000
END:DAYLIGHT
BEGIN:STANDARD
TZOFFSETFROM:-0500
TZOFFSETTO:-0600
TZNAME:CST
DTSTART:20251102T070000
END:STANDARD
END:VTIMEZONE
BEGIN:VEVENT
DTSTART;TZID=America/Chicago:20250227T173000
DTEND;TZID=America/Chicago:20250227T203000
DTSTAMP:20260423T055634
CREATED:20250204T174105Z
LAST-MODIFIED:20250206T181435Z
UID:1853-1740677400-1740688200@yourlincolnparklife.com
SUMMARY:The Costume Council Presents | Chicago Fashion Icon Maria Pinto
DESCRIPTION:The Costume Council of the Chicago History Museum invites you to an evening with Chicago’s premier designer\, Maria Pinto\, in conversation with Maggie Gillette of The Curio. As a fashion futurist\, Maria continually seeks new ways to innovate and make fashion more accessible. Listen as they discuss the secret to longevity and creativity in today’s fashion world. \nThe evening includes a sneak peek of models wearing Maria’s spring collection and iconic pieces\, as well as a special presentation by CHM costume collection manager Jessica Pushor. \n$100 per ticket. \nSchedule\n5:30 p.m. – Arrivals\, wine\, appetizers\, meet and greet with Maria\n7:00 p.m. – Program begins\n8:00 p.m. – Dessert\n8:30 p.m. – Last goodbyes \n \nShare
URL:https://yourlincolnparklife.com/event/the-costume-council-presents-chicago-fashion-icon-maria-pinto-2/
LOCATION:Woman’s Athletic Club\, 626 N Michigan Avenue\, Chicago\, IL\, 60611\, United States
CATEGORIES:Costume Council,Culture,History
ATTACH;FMTTYPE=image/jpeg:https://yourlincolnparklife.com/wp-content/uploads/2025/02/CHM_MariaPinto_WebBanner_1200_3-Psc8Be.tmp_.jpg
END:VEVENT
END:VCALENDAR